BEGIN:VCALENDAR
VERSION:2.0
PRODID:-//Schwule Sau Hannover//DE
CALSCALE:GREGORIAN
BEGIN:VEVENT
UID:01kp0crff2x7gjjw8b1fefeamc@schwulesauhannover
SUMMARY:SAU:BAR - Spieleabend
DESCRIPTION:
DTSTAMP:20260420T015441
DTSTART;TZID=Europe/Berlin:20260529T190000
DTEND;TZID=Europe/Berlin:20260530T030000
URL:https://www.schwulesauhannover.de/event/01kp0crff2x7gjjw8b1fefeamc
END:VEVENT
END:VCALENDAR