BEGIN:VCALENDAR
VERSION:2.0
PRODID:-//Schwule Sau Hannover//DE
CALSCALE:GREGORIAN
BEGIN:VEVENT
UID:01kd2jtf7b1e26vszd72twn15x@schwulesauhannover
SUMMARY:Musical Bar
DESCRIPTION:
DTSTAMP:20260423T044745
DTSTART;TZID=Europe/Berlin:20260123T210000
DTEND;TZID=Europe/Berlin:20260124T040000
URL:https://www.schwulesauhannover.de/event/01kd2jtf7b1e26vszd72twn15x
END:VEVENT
END:VCALENDAR