BEGIN:VCALENDAR
VERSION:2.0
PRODID:-//Schwule Sau Hannover//DE
CALSCALE:GREGORIAN
BEGIN:VEVENT
UID:01kd2jsdq2xv8bw7283jefgx5c@schwulesauhannover
SUMMARY:FLINTA*PHORIA mit DJ Ronja Robbers
DESCRIPTION:
DTSTAMP:20260422T203233
DTSTART;TZID=Europe/Berlin:20260117T220000
DTEND;TZID=Europe/Berlin:20260118T040000
URL:https://www.schwulesauhannover.de/event/01kd2jsdq2xv8bw7283jefgx5c
END:VEVENT
END:VCALENDAR