BEGIN:VCALENDAR
VERSION:2.0
PRODID:-//Schwule Sau Hannover//DE
CALSCALE:GREGORIAN
BEGIN:VEVENT
UID:01kd2jpp5prd7z94h6gy3x5s9r@schwulesauhannover
SUMMARY:Tanten Talk mit La Candy Pia
DESCRIPTION:
DTSTAMP:20260422T190306
DTSTART;TZID=Europe/Berlin:20260116T210000
DTEND;TZID=Europe/Berlin:20260117T040000
URL:https://www.schwulesauhannover.de/event/01kd2jpp5prd7z94h6gy3x5s9r
END:VEVENT
END:VCALENDAR