BEGIN:VCALENDAR
VERSION:2.0
PRODID:-//Schwule Sau Hannover//DE
CALSCALE:GREGORIAN
BEGIN:VEVENT
UID:01kd2jmbgc97gahb64sn8w13ks@schwulesauhannover
SUMMARY:FLINTA* BAR
DESCRIPTION:Bar nur für FLINTA*
DTSTAMP:20260422T173153
DTSTART;TZID=Europe/Berlin:20260115T190000
DTEND;TZID=Europe/Berlin:20260115T235900
URL:https://www.schwulesauhannover.de/event/01kd2jmbgc97gahb64sn8w13ks
END:VEVENT
END:VCALENDAR