BEGIN:VCALENDAR
VERSION:2.0
PRODID:-//Schwule Sau Hannover//DE
CALSCALE:GREGORIAN
BEGIN:VEVENT
UID:01kd2jjhgfka0vdwc7ja550sdb@schwulesauhannover
SUMMARY:Sau Geburtstag mit DJ Herr Croco
DESCRIPTION:
DTSTAMP:20260422T102708
DTSTART;TZID=Europe/Berlin:20260207T220000
DTEND;TZID=Europe/Berlin:20260208T040000
URL:https://www.schwulesauhannover.de/event/01kd2jjhgfka0vdwc7ja550sdb
END:VEVENT
END:VCALENDAR